BEGIN:VCALENDAR
VERSION:2.0
PRODID:icalendar-ruby
CALSCALE:GREGORIAN
X-WR-TIMEZONE:Europe/Helsinki
BEGIN:VTIMEZONE
TZID:Europe/Helsinki
BEGIN:DAYLIGHT
DTSTART:20260329T040000
TZOFFSETFROM:+0200
TZOFFSETTO:+0300
RRULE:FREQ=YEARLY;BYDAY=-1SU;BYMONTH=3
TZNAME:EEST
END:DAYLIGHT
BEGIN:STANDARD
DTSTART:20261025T030000
TZOFFSETFROM:+0300
TZOFFSETTO:+0200
RRULE:FREQ=YEARLY;BYDAY=-1SU;BYMONTH=10
TZNAME:EET
END:STANDARD
END:VTIMEZONE
BEGIN:VEVENT
DTSTAMP:20260420T164733
UID:pyrinto-pct.myclub.fi-113762
DTSTART;TZID=Europe/Helsinki:20150118T173000
DTEND;TZID=Europe/Helsinki:20150118T173000
DESCRIPTION:junioreiden aloittelijajoukkue\n-ryhmässä harjoitellaan liiku
 nnan ja cheerleadingin perustaitoja\n-harjoitukset su klo 17.30-19\, Pelto
 lammin koulu\n-maksut: 110€/kevätkausi\, 30€ Pyrinnön jäsenmaksu(vu
 osimaksu)\,(SCL lisenssi) \n \n\n\nRyhmissämme on mahdollista kokeilla ka
 ksi viikkoa sitoumuksetta!\n\nhttps://pyrinto-pct.myclub.fi/flow/events/11
 3762
LOCATION:Peltolammin Koulu\, Säästäjänkatu 16\, 33840 Tampere\, Suomi
SEQUENCE:0
SUMMARY:Pyrintö Cheer Team: 11-15v\, juniorit Starlights (avoin kaikille)
URL;VALUE=URI:https://pyrinto-pct.myclub.fi/flow/events/113762
END:VEVENT
END:VCALENDAR
